BEGIN:VCALENDAR
VERSION:2.0
PRODID:-//VolunTeens - ECPv6.2.2.1//NONSGML v1.0//EN
CALSCALE:GREGORIAN
METHOD:PUBLISH
X-WR-CALNAME:VolunTeens
X-ORIGINAL-URL:https://volunteensco.com
X-WR-CALDESC:Events for VolunTeens
REFRESH-INTERVAL;VALUE=DURATION:PT1H
X-Robots-Tag:noindex
X-PUBLISHED-TTL:PT1H
BEGIN:VTIMEZONE
TZID:UTC
BEGIN:STANDARD
TZOFFSETFROM:+0000
TZOFFSETTO:+0000
TZNAME:UTC
DTSTART:20210101T000000
END:STANDARD
END:VTIMEZONE
BEGIN:VEVENT
DTSTART;TZID=UTC:20210106T120000
DTEND;TZID=UTC:20210106T130000
DTSTAMP:20260423T210310
CREATED:20201119T012335Z
LAST-MODIFIED:20210106T012915Z
UID:6501-1609934400-1609938000@volunteensco.com
SUMMARY:Knitting Baby Hats for The Howard County Hospital
DESCRIPTION:VolunTeens is hosting Zoom calls to teach volunteers how to knit baby hats. Kits that include everything you need to get started are handed out before each Zoom lesson. The hats are then collected and donated to the Howard County General Hospital for newborn babies and kids that are there. For more information email Sandra Holt at sandraholtlaw@gmail.com or volunteensco@gmail.com !
URL:https://volunteensco.com/event/knitting-baby-hats-for-the-howard-county-hospital/
CATEGORIES:Event Calendar
ATTACH;FMTTYPE=image/jpeg:https://volunteensco.com/wp-content/uploads/2020/11/baby-hats.jpg
END:VEVENT
END:VCALENDAR